BEGIN:VCALENDAR
VERSION:2.0
PRODID:-//Victa Lab - ECPv6.15.17.1//NONSGML v1.0//EN
CALSCALE:GREGORIAN
METHOD:PUBLISH
X-ORIGINAL-URL:https://stage.victalab.com.br
X-WR-CALDESC:Eventos para Victa Lab
REFRESH-INTERVAL;VALUE=DURATION:PT1H
X-Robots-Tag:noindex
X-PUBLISHED-TTL:PT1H
BEGIN:VTIMEZONE
TZID:America/Sao_Paulo
BEGIN:STANDARD
TZOFFSETFROM:-0300
TZOFFSETTO:-0300
TZNAME:-03
DTSTART:20240101T000000
END:STANDARD
END:VTIMEZONE
BEGIN:VEVENT
DTSTART;TZID=America/Sao_Paulo:20250918T090000
DTEND;TZID=America/Sao_Paulo:20250919T193000
DTSTAMP:20260420T183009
CREATED:20250725T152046Z
LAST-MODIFIED:20250725T152344Z
UID:7474-1758186000-1758310200@stage.victalab.com.br
SUMMARY:Curso Terapia Nutricional
DESCRIPTION:Profissionais da saúde\, transforme sua carreira com nossa Imersão em Nutrição Parenteral!\nComece 2025 com um diferencial competitivo e esteja preparado para elevar os resultados dos seus pacientes!
URL:https://stage.victalab.com.br/agenda/curso-terapia-nutricional-5/
LOCATION:Instituto ATP\, R. Maicuru\, 82 - Indianópolis\, São Paulo - SP\, 04084-010
END:VEVENT
END:VCALENDAR