BEGIN:VCALENDAR
VERSION:2.0
PRODID:-//Victa Lab - ECPv6.15.17.1//NONSGML v1.0//EN
CALSCALE:GREGORIAN
METHOD:PUBLISH
X-WR-CALNAME:Victa Lab
X-ORIGINAL-URL:https://stage.victalab.com.br
X-WR-CALDESC:Eventos para Victa Lab
REFRESH-INTERVAL;VALUE=DURATION:PT1H
X-Robots-Tag:noindex
X-PUBLISHED-TTL:PT1H
BEGIN:VTIMEZONE
TZID:America/Sao_Paulo
BEGIN:STANDARD
TZOFFSETFROM:-0300
TZOFFSETTO:-0300
TZNAME:-03
DTSTART:20240101T000000
END:STANDARD
END:VTIMEZONE
BEGIN:VEVENT
DTSTART;TZID=America/Sao_Paulo:20250924T080000
DTEND;TZID=America/Sao_Paulo:20250925T220000
DTSTAMP:20260420T083438
CREATED:20250725T144658Z
LAST-MODIFIED:20250725T144658Z
UID:7461-1758700800-1758837600@stage.victalab.com.br
SUMMARY:II Harmonie Experience Congress
DESCRIPTION:O II Harmonie Experience Congress foi idealizado como um espaço dinâmico de aprendizado e atualização\, voltado a impulsionar a Harmonização Orofacial\, Facial e Corporal a novos níveis de excelência técnica e científica. Reunindo especialistas de destaque nacional e regional\, o evento oferece uma programação cuidadosamente pensada para explorar as últimas tendências\, tecnologias e técnicas avançadas da área. \nCom forte compromisso com a ética e a ciência\, o congresso promove práticas seguras e eficazes\, sempre embasadas em evidências\, garantindo uma abordagem responsável e atualizada da especialidade. \nEste encontro multiprofissional tem caráter colaborativo e integrador\, incentivando a troca de conhecimentos entre diferentes áreas\, com o propósito de aperfeiçoar procedimentos que aliam estética\, funcionalidade e qualidade de vida. \nProfissionais da área estão convidados a fazer parte deste ambiente de troca científica\, contribuindo para o fortalecimento e evolução das melhores práticas em Harmonização Orofacial\, Facial e Corporal.
URL:https://stage.victalab.com.br/agenda/ii-harmonie-experience-congress/
LOCATION:Estação das Docas – Belém – Pará – Brasil\, Estação das Docas - Belém - Pará - Brasil
END:VEVENT
END:VCALENDAR