BEGIN:VCALENDAR
VERSION:2.0
PRODID:-//Victa Lab - ECPv6.15.17.1//NONSGML v1.0//EN
CALSCALE:GREGORIAN
METHOD:PUBLISH
X-WR-CALNAME:Victa Lab
X-ORIGINAL-URL:https://stage.victalab.com.br
X-WR-CALDESC:Eventos para Victa Lab
REFRESH-INTERVAL;VALUE=DURATION:PT1H
X-Robots-Tag:noindex
X-PUBLISHED-TTL:PT1H
BEGIN:VTIMEZONE
TZID:America/Sao_Paulo
BEGIN:STANDARD
TZOFFSETFROM:-0300
TZOFFSETTO:-0300
TZNAME:-03
DTSTART:20240101T000000
END:STANDARD
END:VTIMEZONE
BEGIN:VEVENT
DTSTART;TZID=America/Sao_Paulo:20250925T000000
DTEND;TZID=America/Sao_Paulo:20250927T000000
DTSTAMP:20260420T021935
CREATED:20250109T210303Z
LAST-MODIFIED:20250109T210303Z
UID:6810-1758758400-1758931200@stage.victalab.com.br
SUMMARY:Associação Brasileira de Nutrologia (ABRAN)
DESCRIPTION:Desde 1996\, a ABRAN promove o Congresso Brasileiro de Nutrologia (CBN)\, o maior evento de Nutrologia da América Latina\, que reúne os principais nomes nacionais e internacionais da nutrologia\, contribuindo para a inovação científica\, a renovação do conhecimento e a maior integração entre os profissionais dessa especialidade médica\, que é uma das que mais crescem no mundo atualmente.
URL:https://stage.victalab.com.br/agenda/associacao-brasileira-de-nutrologia-abran/
LOCATION:Centro de Convenções Frei Caneca\, R. Frei Caneca\, 569 - Consolação\, São Paulo\, SP\, 01307-001\, Brasil
END:VEVENT
END:VCALENDAR