BEGIN:VCALENDAR
VERSION:2.0
PRODID:-//Victa Lab - ECPv6.15.17.1//NONSGML v1.0//EN
CALSCALE:GREGORIAN
METHOD:PUBLISH
X-ORIGINAL-URL:https://stage.victalab.com.br
X-WR-CALDESC:Eventos para Victa Lab
REFRESH-INTERVAL;VALUE=DURATION:PT1H
X-Robots-Tag:noindex
X-PUBLISHED-TTL:PT1H
BEGIN:VTIMEZONE
TZID:America/Sao_Paulo
BEGIN:STANDARD
TZOFFSETFROM:-0300
TZOFFSETTO:-0300
TZNAME:-03
DTSTART:20250101T000000
END:STANDARD
END:VTIMEZONE
BEGIN:VEVENT
DTSTART;TZID=America/Sao_Paulo:20260128T103000
DTEND;TZID=America/Sao_Paulo:20260131T200000
DTSTAMP:20260419T115526
CREATED:20251216T164629Z
LAST-MODIFIED:20251216T164629Z
UID:10605-1769596200-1769889600@stage.victalab.com.br
SUMMARY:CIOSP
DESCRIPTION:A Victa estará presente no CIOSP\, um dos maiores e mais relevantes congressos de odontologia do mundo. O evento reúne profissionais\, especialistas e marcas que estão moldando o futuro do setor\, com foco em inovação\, atualização científica e networking. Visite o estande da Victa e conheça nossas soluções desenvolvidas para transformar a prática odontológica.
URL:https://stage.victalab.com.br/agenda/ciosp/
LOCATION:Expo Center Norte\, Rua José Bernardo Pinto\, 333 - Vila Guilherme\, São Paulo - SP\, 02055-000
END:VEVENT
END:VCALENDAR