BEGIN:VCALENDAR
VERSION:2.0
PRODID:-//Victa Lab - ECPv6.15.17.1//NONSGML v1.0//EN
CALSCALE:GREGORIAN
METHOD:PUBLISH
X-WR-CALNAME:Victa Lab
X-ORIGINAL-URL:https://stage.victalab.com.br
X-WR-CALDESC:Eventos para Victa Lab
REFRESH-INTERVAL;VALUE=DURATION:PT1H
X-Robots-Tag:noindex
X-PUBLISHED-TTL:PT1H
BEGIN:VTIMEZONE
TZID:America/Sao_Paulo
BEGIN:STANDARD
TZOFFSETFROM:-0300
TZOFFSETTO:-0300
TZNAME:-03
DTSTART:20240101T000000
END:STANDARD
END:VTIMEZONE
BEGIN:VEVENT
DTSTART;TZID=America/Sao_Paulo:20251002T080000
DTEND;TZID=America/Sao_Paulo:20251004T180000
DTSTAMP:20260419T162050
CREATED:20251002T141411Z
LAST-MODIFIED:20251002T141411Z
UID:7796-1759392000-1759600800@stage.victalab.com.br
SUMMARY:WOMEN´S VASCULAR 2025 - SYMPOSIUM FOCUS ON THE PATIENT
DESCRIPTION:
URL:https://stage.victalab.com.br/agenda/womens-vascular-2025-symposium-focus-on-the-patient/
LOCATION:Tivoli Mofarrej São Paulo Hotel\, Alameda Santos\, 1437\, Cerqueira César - CEP: 01419-001 - São Paulo\, Brasil CEP - 01419-001
END:VEVENT
BEGIN:VEVENT
DTSTART;TZID=America/Sao_Paulo:20251004T000000
DTEND;TZID=America/Sao_Paulo:20251004T000000
DTSTAMP:20260419T162050
CREATED:20250417T123132Z
LAST-MODIFIED:20250417T123132Z
UID:7206-1759536000-1759536000@stage.victalab.com.br
SUMMARY:SANAR
DESCRIPTION:Os cursos Sanar são cursos de pós-graduação e preparação para residência médica\, oferecidos pela startup Sanar. A Sanar é uma empresa de educação e tecnologia em saúde. \nOs cursos Sanar podem ajudar os profissionais de saúde a aprimorar seus conhecimentos e se preparar para os desafios da carreira.  \n 
URL:https://stage.victalab.com.br/agenda/sanar-6/
LOCATION:Instituto ATP\, R. Maicuru\, 82 - Indianópolis\, São Paulo - SP\, 04084-010
END:VEVENT
BEGIN:VEVENT
DTSTART;TZID=America/Sao_Paulo:20251010T000000
DTEND;TZID=America/Sao_Paulo:20251012T000000
DTSTAMP:20260419T162050
CREATED:20250109T174310Z
LAST-MODIFIED:20250109T174310Z
UID:6791-1760054400-1760227200@stage.victalab.com.br
SUMMARY:Seminário LS - Ciências da Longevidade Humana
DESCRIPTION:Serão 3 dias de imersão com grandes nomes das Ciências da Longevidade Humana\, onde você terá a oportunidade de ampliar seus conhecimentos de protocolos clínicos com uma farta base de evidências científicas. Além da troca de experiências entre congressistas e palestrantes renomados nacional e internacionalmente.
URL:https://stage.victalab.com.br/agenda/seminario-ls-ciencias-da-longevidade-humana/
LOCATION:Centro de Convenções Frei Caneca\, R. Frei Caneca\, 569 - Consolação\, São Paulo\, SP\, 01307-001\, Brasil
END:VEVENT
BEGIN:VEVENT
DTSTART;TZID=America/Sao_Paulo:20251018T000000
DTEND;TZID=America/Sao_Paulo:20251019T000000
DTSTAMP:20260419T162050
CREATED:20250417T123346Z
LAST-MODIFIED:20250417T123346Z
UID:7208-1760745600-1760832000@stage.victalab.com.br
SUMMARY:PÓS LAIR 13
DESCRIPTION:Formado em Medicina há mais de 45 anos\, CRM – MG 6972\, cardiologista\, mestre em cardiologia pela PUC-RIO – RQE-MG 29517\, nutrólogo pela ABRAN e Associação Médica Brasileira – RQE-MG 29455\, morou durante 17 anos nos Estados Unidos\, período em que trabalhou em três universidades americanas: Harvard Medical School\, Baylor College of Medicine e Thomas Jefferson University. Nesse período\, também exerceu os cargos de diretor-médico na Merck Sharp & Dohme e diretor-executivo\, alcançando a vice-presidência\, na Ciba Corporation\, hoje Novartis. \nAutor de mais de 100 trabalhos científicos publicados em revistas médicas americanas indexadas\, o Dr. Lair Ribeiro também publicou 42 livros\, sendo 15 deles best sellers\, 26 traduzidos para outros idiomas\, hoje disponíveis em mais de 40 países. \n\n\n\n\n\n\nPor mais de 20 anos\, proferiu palestras em diversas cidades brasileiras\, vários países da América do Sul\, América Central\, América do Norte e Europa. Treinou mais de 4.000 médicos brasileiros na área de Adequação Nutricional e Otimização da Homeostase. \nAtualmente\, o Dr. Lair Ribeiro é professor de pós-graduação da Uningá-Centro Universitário Ingá\, instituição avaliada pelo MEC\, em 2017\, como o quarto melhor centro universitário do país\, o segundo da região Sul e o melhor do Paraná. \nIntitulado Adequação Nutricional e Manutenção da Homeostase – Prevenção e Tratamento de Doenças relacionadas à Idade\, o curso de pós-graduação lato sensu da Uningá – Centro Universitário Ingá\, coordenado e ministrado pelo Dr. Lair Ribeiro\, tem 18 meses de duração\, correspondendo a 360 horas de aula.
URL:https://stage.victalab.com.br/agenda/pos-lair-13-4/
LOCATION:PESTANA\, Rua Tutóia 77\, São Paulo\, SP\, 04007-000\, Brasil
END:VEVENT
BEGIN:VEVENT
DTSTART;TZID=America/Sao_Paulo:20251023T080000
DTEND;TZID=America/Sao_Paulo:20251024T180000
DTSTAMP:20260419T162050
CREATED:20251002T141804Z
LAST-MODIFIED:20251002T141804Z
UID:7799-1761206400-1761328800@stage.victalab.com.br
SUMMARY:XVIII Congresso de Flebologia e Linfologia
DESCRIPTION:O XVIII Congresso da Associação Brasileira de Flebologia e Linfologia\, está sendo cuidadosamente preparado para integrar os profissionais\, trazendo as discussões para os problemas práticos do dia a dia\, apresentando as dificuldades\, as técnicas e tecnologias empregadas em detalhes \, priorizando as apresentações e o debate entre palestrantes e plateia\, inclusive com a realização de Workshops\, Simpósios Satélites e Vídeos para Técnicas Cirúrgicas e Tratamentos Locais.
URL:https://stage.victalab.com.br/agenda/xviii-congresso-de-flebologia-e-linfologia/
LOCATION:Associação Paulista de Medicina\, São Paulo – SP\, Avenida Brigadeiro Luís Antônio\, 278 Bela Vista São Paulo\, SP
END:VEVENT
END:VCALENDAR